BEGIN:VCALENDAR
VERSION:2.0
PRODID:-//wp-events-plugin.com//7.2.3.1//EN
TZID:America/Los_Angeles
X-WR-TIMEZONE:America/Los_Angeles
BEGIN:VEVENT
UID:1239@seaportstriders.com
DTSTART;TZID=America/Los_Angeles:20240101T100000
DTEND;TZID=America/Los_Angeles:20240101T113000
DTSTAMP:20231216T203814Z
URL:https://seaportstriders.com/events/hangover-run-2024/
SUMMARY:Hangover Run 2024
DESCRIPTION:New Year’s Day\nHangover Run\nJanuary 1\, 2024\, 10:00 AM\n4 
 or 9 Mile FUN Run\nDid you have a good time last night? You didn't party t
 oo much\, did you? Wouldn't a nice ICY COLD run be just the thing to bring
  in the New Year? GREAT!!!\n\nRegistration: Check-in and registration from
  9:30am to 9:55am at the Lewiston Confluence Parking Lot. For more informa
 tion\, call our race director\, Lee at 509-597-7584.\n\nCost: FREE\, no sh
 irts\, no numbers. This is a self-timed event for some ‘morning-after’
  fun! Self-Supported run with no water stations on course.\n\nCourse: Both
  runs will start at the Lewiston Confluence. The four-mile run will be an 
 out and back to the Southway Bridge. The nine-mile run will be an out and 
 back the day-use area of Hells Gate State Park.\n\nAwards: None. If there 
 will be a post-run brunch\, it will be announced at the start of the run.\
 n\nMembership: Seaport Striders Club Membership is $10.00 per person or $2
 0 per family (living in same household\, kids 18 yrs &amp\; younger)\, per
  calendar year. Applications are available at the registration table and o
 n our website\, seaportstriders.com.\n\nElectronic Registration\n\nMail-in
  and same-day registration form
ATTACH;FMTTYPE=image/jpeg:https://seaportstriders.com/wp-content/uploads/2
 023/12/2024-Hangover-Run-1.png
CATEGORIES:Seaport Striders' Run
LOCATION:Lewiston Confluence\, 201 1st Street\, Lewiston\, ID\, United Stat
 es
GEO:46.422369;-117.031965
X-APPLE-STRUCTURED-LOCATION;VALUE=URI;X-ADDRESS=201 1st Street\, Lewiston\,
  ID\, United States;X-APPLE-RADIUS=100;X-TITLE=Lewiston Confluence:geo:46.
 422369,-117.031965
END:VEVENT
BEGIN:VTIMEZONE
TZID:America/Los_Angeles
X-LIC-LOCATION:America/Los_Angeles
BEGIN:STANDARD
DTSTART:20231105T010000
TZOFFSETFROM:-0700
TZOFFSETTO:-0800
TZNAME:PST
END:STANDARD
END:VTIMEZONE
END:VCALENDAR