BEGIN:VCALENDAR
VERSION:2.0
PRODID:-//wp-events-plugin.com//7.2.3.1//EN
TZID:America/Los_Angeles
X-WR-TIMEZONE:America/Los_Angeles
BEGIN:VEVENT
UID:554@seaportstriders.com
DTSTART;TZID=America/Los_Angeles:20211016T090000
DTEND;TZID=America/Los_Angeles:20211016T121500
DTSTAMP:20210906T222501Z
URL:https://seaportstriders.com/events/lewis-clark-half-marathon-5k-2021/
SUMMARY:Lewis-Clark Half Marathon & 5K 2021
DESCRIPTION:SEAPORT STRIDERS RUNNING CLUB\n23nd ANNUAL\nLEWIS-CLARK HALF MA
 RATHON\, 5K\, &amp\; KIDS RUN\nSaturday\, October 16\, 2021\, 9:00 AM\nGra
 nite Lake Park\nCourse closes at at 12:15pm.\n8:30am early start is ONLY f
 or half marathon participants who cannot finish by 12:15pm\nEarly start MU
 ST be coordinated with Race Director before starting\nRegistration: Check-
 in and same-day registration from 7:30-8:30 a.m. at Granite Lake Park. The
  park is located at 848 Port Way\, just north of the Clarkston Holiday Inn
  next to the Snake River. For more information\, contact our race director
 \, Romney\, at RD@RomneyH.com.\n\nCost: $15.00 run only or $30.00 with shi
 rt if you pre-register by September 29th. Fees after September 29th are $2
 0.00 run only or $35.00 with shirt. You must register by September 29th to
  guarantee a shirt. Seaport Striders Club Members receive a $2 Discount! M
 ail entry form and check payable to: Seaport Striders\, P.O. Box 20\, Lewi
 ston\, ID 83501. No refunds.\n\nCourse: Both the Half-Marathon and 5K rout
 es are out-and-back courses along the Snake River on the Greenbelt Trail S
 ystem. This paved trail is mostly flat with multiple water &amp\; bathroom
  stops available. Stroller\, dog\, &amp\; walker friendly – just be mind
 ful of other participants\, please.\n\nAwards: Top-3 male and female &amp\
 ; age-group ribbons. Medals for half marathon finishers.\n\n\nKids' Run\nN
 ew for 2021\, we are pleased to hold a free 1 mile Kids' Run! Kids will st
 art at 8:30am so guardians can warm up a child in the Kids' Run and then p
 articipate in the 5k or Half Marathon. For the Kids' Run\, we will announc
 e times as children finish\, but not report times publicly. Participants w
 ill be issued bibs and receive a participation award.\n\nCourse Map\n\nOn-
 Line Registration\n\n[icon name="file-pdf"] Mail-in and same-day registrat
 ion form\n\n&nbsp\;
CATEGORIES:Seaport Striders' Run
LOCATION:Granite Lake Park\, 845 Port Way\, Clarkston\, WA\, United States
GEO:46.425413;-117.048652
X-APPLE-STRUCTURED-LOCATION;VALUE=URI;X-ADDRESS=845 Port Way\, Clarkston\, 
 WA\, United States;X-APPLE-RADIUS=100;X-TITLE=Granite Lake Park:geo:46.425
 413,-117.048652
END:VEVENT
BEGIN:VTIMEZONE
TZID:America/Los_Angeles
X-LIC-LOCATION:America/Los_Angeles
BEGIN:DAYLIGHT
DTSTART:20210314T030000
TZOFFSETFROM:-0800
TZOFFSETTO:-0700
TZNAME:PDT
END:DAYLIGHT
END:VTIMEZONE
END:VCALENDAR